BEGIN:VCALENDAR
VERSION:2.0
PRODID:-//Monarch Beauty Farm - ECPv6.15.20//NONSGML v1.0//EN
CALSCALE:GREGORIAN
METHOD:PUBLISH
X-ORIGINAL-URL:https://monarchbeautyfarm.com
X-WR-CALDESC:Events for Monarch Beauty Farm
REFRESH-INTERVAL;VALUE=DURATION:PT1H
X-Robots-Tag:noindex
X-PUBLISHED-TTL:PT1H
BEGIN:VTIMEZONE
TZID:America/Chicago
BEGIN:DAYLIGHT
TZOFFSETFROM:-0600
TZOFFSETTO:-0500
TZNAME:CDT
DTSTART:20230312T080000
END:DAYLIGHT
BEGIN:STANDARD
TZOFFSETFROM:-0500
TZOFFSETTO:-0600
TZNAME:CST
DTSTART:20231105T070000
END:STANDARD
BEGIN:DAYLIGHT
TZOFFSETFROM:-0600
TZOFFSETTO:-0500
TZNAME:CDT
DTSTART:20240310T080000
END:DAYLIGHT
BEGIN:STANDARD
TZOFFSETFROM:-0500
TZOFFSETTO:-0600
TZNAME:CST
DTSTART:20241103T070000
END:STANDARD
BEGIN:DAYLIGHT
TZOFFSETFROM:-0600
TZOFFSETTO:-0500
TZNAME:CDT
DTSTART:20250309T080000
END:DAYLIGHT
BEGIN:STANDARD
TZOFFSETFROM:-0500
TZOFFSETTO:-0600
TZNAME:CST
DTSTART:20251102T070000
END:STANDARD
BEGIN:DAYLIGHT
TZOFFSETFROM:-0600
TZOFFSETTO:-0500
TZNAME:CDT
DTSTART:20260308T080000
END:DAYLIGHT
BEGIN:STANDARD
TZOFFSETFROM:-0500
TZOFFSETTO:-0600
TZNAME:CST
DTSTART:20261101T070000
END:STANDARD
END:VTIMEZONE
BEGIN:VTIMEZONE
TZID:UTC
BEGIN:STANDARD
TZOFFSETFROM:+0000
TZOFFSETTO:+0000
TZNAME:UTC
DTSTART:20240101T000000
END:STANDARD
END:VTIMEZONE
BEGIN:VEVENT
DTSTART;TZID=America/Chicago:20251113T183000
DTEND;TZID=America/Chicago:20251113T200000
DTSTAMP:20260420T092001
CREATED:20240928T202240Z
LAST-MODIFIED:20251010T193512Z
UID:4114-1763058600-1763064000@monarchbeautyfarm.com
SUMMARY:Pressed Flower Lantern Workshop
DESCRIPTION:In this workshop Monarch Beauty Farm teaches the foundations of flower and leaf pressing to capture vibrant and beautifully preserved botanicals. In this hands-on class\, participants will see a pressed flower demonstration and have access to a curated collection of locally grown flowers to create a beautifully decorated glass lantern to enjoy for a lifetime. \nNo experience is necessary\, and all materials will be provided. Come relax\, get crafty\, and leave with your own personalized pressed flower lantern. LED tea lights included. This is a BYOB event. Don’t miss out on this unique opportunity to unleash your creativity! \nYour registration includes: \n\n2 – 5oz stylish glass jars\nA premium selection of pressed flowers and foliage\nPhoto inspiration\, instruction and live demonstration\nCrafting tools\nThe event is BYOB\nParticipants take home two finished glass lanterns\nThe event is BYOB\n\nREGISTRATION is available on the website link at the bottom of the page. Tickets sales are managed by our host venue.
URL:https://monarchbeautyfarm.com/event/pressed-flower-lantern-workshop/
LOCATION:Private: The Refilleri\, 1007 N California Ave\, Chicago\, IL\, 60622\, United States
CATEGORIES:Pressed Flowers
ATTACH;FMTTYPE=image/jpeg:https://monarchbeautyfarm.com/wp-content/uploads/2024/09/IMG_2139-scaled-e1734206975598.jpeg
END:VEVENT
BEGIN:VEVENT
DTSTART;TZID=UTC:20251009T190000
DTEND;TZID=UTC:20251009T203000
DTSTAMP:20260420T092001
CREATED:20250118T062853Z
LAST-MODIFIED:20250921T181714Z
UID:4304-1760036400-1760041800@monarchbeautyfarm.com
SUMMARY:Petals and Frames
DESCRIPTION:In this workshop Monarch Beauty Farm teaches the foundations of flower and leaf pressing to capture vibrant and beautifully preserved botanicals. \nIn this hands-on class\, participants will create their own Floralscapes using hand-pressed flowers\, grown locally\, using sustainable farming practices. We’ll use a 5×7 glass floating frame. You will take home a beautiful hanging botanical art piece you can display in your home or give as a gift to a loved one. All materials are included. You are welcome to bring a photo of your choice to personalize your floating frame. \nThis workshop lasts approximately 90 minutes. No experience necessary. Grab a friend\, celebrate a birthday or join group. The event is BYOB. \nREGISTRATION is available on the website link at the bottom of this page. 
URL:https://monarchbeautyfarm.com/event/pressed-flower-on-floating-frames/
LOCATION:Private: The Eco Cafe\, 4754 N Rockwell Avenue\, Chicago\, IL\, 60625\, United States
CATEGORIES:Pressed Flowers
ATTACH;FMTTYPE=image/jpeg:https://monarchbeautyfarm.com/wp-content/uploads/2025/01/IMG_9356.jpeg
END:VEVENT
BEGIN:VEVENT
DTSTART;TZID=UTC:20250710T183000
DTEND;TZID=UTC:20250710T203000
DTSTAMP:20260420T092001
CREATED:20240928T203314Z
LAST-MODIFIED:20250626T034445Z
UID:4117-1752172200-1752179400@monarchbeautyfarm.com
SUMMARY:Florascapes on Reclaimed Tile
DESCRIPTION:In this workshop Monarch Beauty Farm teaches the foundations of flower and leaf pressing to capture vibrant and beautifully preserved botanicals. \nIn this hands-on class\, participants will create their own Floralscapes using hand-pressed flowers\, grown locally\, using sustainable farming practices. We’ll use 6×6″ or 3×6 ” reclaimed tiles\, available in a variety of colors and sizes as a backdrop. You will take home a beautiful hanging botanical art piece you can display in your home or give as a gift to a loved one. All materials are included. \nThe Event is BYOB. \nWorkshop lasts approximately two hours. No experience necessary. Grab a friend or join the workshop solo. \nREGISTRATION is available on the website link at the bottom of this page. The ticket sales are managed by our host venue.
URL:https://monarchbeautyfarm.com/event/florascapes-on-reclaimed-tile/
LOCATION:Private: The Eco Cafe\, 4754 N Rockwell Avenue\, Chicago\, IL\, 60625\, United States
CATEGORIES:Pressed Flowers
ATTACH;FMTTYPE=image/jpeg:https://monarchbeautyfarm.com/wp-content/uploads/2024/09/IMG_2069.jpeg
ORGANIZER;CN="Monarch Beauty Farm":MAILTO:monarchbeautyfarm@gmail.com
END:VEVENT
BEGIN:VEVENT
DTSTART;TZID=UTC:20250320T063000
DTEND;TZID=UTC:20250320T200000
DTSTAMP:20260420T092001
CREATED:20250226T002855Z
LAST-MODIFIED:20250226T002855Z
UID:4337-1742452200-1742500800@monarchbeautyfarm.com
SUMMARY:Pressed Flowers on Floating Frames
DESCRIPTION:In this workshop Monarch Beauty Farm teaches the foundations of flower and leaf pressing to capture vibrant and beautifully preserved botanicals. \nIn this hands-on class\, participants will create their own Floralscapes using hand-pressed flowers\, grown locally\, using sustainable farming practices. We’ll use a 5×7 floating frame. You will take home a beautiful hanging botanical art piece you can display in your home or give as a gift to a loved one. All materials are included. You are welcome to bring a photo of your choice to personalize your floating frame. \nThis workshop lasts approximately 90 minutes. No experience necessary. Grab a friend\, celebrate a birthday or join group. The event is BYOB. \nREGISTRATION is available on the website link at the bottom of this page. The ticket sales are managed by our host venue.
URL:https://monarchbeautyfarm.com/event/pressed-flowers-on-floating-frames/
LOCATION:Private: The Refilleri\, 1007 N California Ave\, Chicago\, IL\, 60622\, United States
CATEGORIES:Pressed Flowers
ATTACH;FMTTYPE=image/jpeg:https://monarchbeautyfarm.com/wp-content/uploads/2025/01/IMG_7990.jpeg
END:VEVENT
BEGIN:VEVENT
DTSTART;TZID=America/Chicago:20241121T183000
DTEND;TZID=America/Chicago:20241121T203000
DTSTAMP:20260420T092001
CREATED:20241007T153548Z
LAST-MODIFIED:20241110T211951Z
UID:4135-1732213800-1732221000@monarchbeautyfarm.com
SUMMARY:Pressed Flowers Ornaments
DESCRIPTION:In this workshop Monarch Beauty Farm teaches the foundations of flower and leaf pressing to capture vibrant and beautifully preserved botanicals. In this hands-on class\, participants will see a pressed flower demonstration and have access to a well curated collection of colorful flowers grown and pressed by Monarch Beauty Farm. Each participant will create beautifully decorated ornaments to give as gifts or enjoy for a lifetime. \nNo experience is necessary\, and all materials will be provided. Come relax\, get crafty\, and leave with your own personalized pressed ornament. This is a BYOB event. Don’t miss out on this unique opportunity to unleash your creativity! \nYour registration includes: \n\n2 – White clay ornaments\nA large and curated selection of specialty pressed flowers and foliage\nPhoto inspiration\, instruction and live demonstration\nCrafting tools to use in class\nEmbellishments\nThe event is BYOB\n\nREGISTRATION is available in the website link at the bottom of this page. Ticket sales are managed by our host venue\, The Refilleri 
URL:https://monarchbeautyfarm.com/event/dried-floral-crescent-moon-wreath-3/
LOCATION:Private: The Refilleri\, 1007 N California Ave\, Chicago\, IL\, 60622\, United States
CATEGORIES:Pressed Flowers
ATTACH;FMTTYPE=image/png:https://monarchbeautyfarm.com/wp-content/uploads/2024/10/IMG_1983-e1730845038167.png
END:VEVENT
BEGIN:VEVENT
DTSTART;TZID=America/Chicago:20241010T183000
DTEND;TZID=America/Chicago:20241010T210000
DTSTAMP:20260420T092001
CREATED:20240928T172018Z
LAST-MODIFIED:20251031T115748Z
UID:4088-1728585000-1728594000@monarchbeautyfarm.com
SUMMARY:Dried Floral Crescent Moon Wreath
DESCRIPTION:Join us for this hands-on workshop where you’ll learn the art of drying flowers and grasses to make colors pop! Dive into color theory secrets for wreath making\, and craft a stunning decor piece that will bring joy for ages. We will work with locally grown blooms and bamboo rings to create these everlasting floral masterpieces! All supplies and materials are provided and no prior experience is necessary. We will provide hands-on instruction and a great time!. Your registration includes: \n\n6″ bamboo hoop\npremium selection of dried florals and grasses\nbind wire and floral tape\nphoto inspiration\, instruction and live demonstration\nSnacks and beverages provided and get 10% off at The Eco Flamingo the day of the workshop!\nThe event is BYOB\n\nREGISTRATION is available in the website link at the bottom of this page. Ticket sales are managed by our host venue. 
URL:https://monarchbeautyfarm.com/event/dried-floral-crescent-moon-wreath/
LOCATION:Private: The Eco Cafe\, 4754 N Rockwell Avenue\, Chicago\, IL\, 60625\, United States
CATEGORIES:Dried Florals
ATTACH;FMTTYPE=image/jpeg:https://monarchbeautyfarm.com/wp-content/uploads/2024/09/IMG_1390-scaled-e1727529461915.jpeg
END:VEVENT
END:VCALENDAR